BEGIN:VCALENDAR
VERSION:2.0
PRODID:icalendar-ruby
CALSCALE:GREGORIAN
METHOD:PUBLISH
BEGIN:VEVENT
DTSTAMP:20260424T135037Z
UID:28-849618@yorkwoodchurch.org
DTSTART:20261021T230000Z
DTEND:20261022T000000Z
CLASS:PUBLIC
CREATED:20260424T072654
DESCRIPTION:Wednesday Night Service
LAST-MODIFIED:20260424T072654
LOCATION:YWCOG
SUMMARY:Wednesday Night Service
URL;VALUE=URI:https://www.yorkwoodchurch.org/events/wednesday-night-service
 /2026-10-21
END:VEVENT
END:VCALENDAR
