BEGIN:VCALENDAR
VERSION:2.0
PRODID:icalendar-ruby
CALSCALE:GREGORIAN
METHOD:PUBLISH
BEGIN:VEVENT
DTSTAMP:20260424T045226Z
UID:28-848988@yorkwoodchurch.org
DTSTART:20260909T230000Z
DTEND:20260910T000000Z
CLASS:PUBLIC
CREATED:20260423T215826
DESCRIPTION:Wednesday Night Service
LAST-MODIFIED:20260423T215826
LOCATION:YWCOG
SUMMARY:Wednesday Night Service
URL;VALUE=URI:https://www.yorkwoodchurch.org/events/wednesday-night-service
 /2026-09-09
END:VEVENT
END:VCALENDAR
