BEGIN:VCALENDAR
VERSION:2.0
PRODID:icalendar-ruby
CALSCALE:GREGORIAN
METHOD:PUBLISH
BEGIN:VEVENT
DTSTAMP:20260424T002703Z
UID:28-848361@yorkwoodchurch.org
DTSTART:20260819T230000Z
DTEND:20260820T000000Z
CLASS:PUBLIC
CREATED:20260423T190508
DESCRIPTION:Wednesday Night Service
LAST-MODIFIED:20260423T190508
LOCATION:YWCOG
SUMMARY:Wednesday Night Service
URL;VALUE=URI:https://www.yorkwoodchurch.org/events/wednesday-night-service
 /2026-08-19
END:VEVENT
END:VCALENDAR
