BEGIN:VCALENDAR
VERSION:2.0
PRODID:icalendar-ruby
CALSCALE:GREGORIAN
METHOD:PUBLISH
BEGIN:VEVENT
DTSTAMP:20260423T224755Z
UID:28-847736@yorkwoodchurch.org
DTSTART:20260812T230000Z
DTEND:20260813T000000Z
CLASS:PUBLIC
CREATED:20260423T161109
DESCRIPTION:Wednesday Night Service
LAST-MODIFIED:20260423T161109
LOCATION:YWCOG
SUMMARY:Wednesday Night Service
URL;VALUE=URI:https://www.yorkwoodchurch.org/events/wednesday-night-service
 /2026-08-12
END:VEVENT
END:VCALENDAR
