BEGIN:VCALENDAR
VERSION:2.0
PRODID:icalendar-ruby
CALSCALE:GREGORIAN
METHOD:PUBLISH
BEGIN:VEVENT
DTSTAMP:20260423T193340Z
UID:28-847110@yorkwoodchurch.org
DTSTART:20260729T230000Z
DTEND:20260730T000000Z
CLASS:PUBLIC
CREATED:20260423T131440
DESCRIPTION:Wednesday Night Service
LAST-MODIFIED:20260423T131440
LOCATION:YWCOG
SUMMARY:Wednesday Night Service
URL;VALUE=URI:https://www.yorkwoodchurch.org/events/wednesday-night-service
 /2026-07-29
END:VEVENT
END:VCALENDAR
