BEGIN:VCALENDAR
VERSION:2.0
PRODID:icalendar-ruby
CALSCALE:GREGORIAN
METHOD:PUBLISH
BEGIN:VEVENT
DTSTAMP:20260423T175631Z
UID:28-847109@yorkwoodchurch.org
DTSTART:20260722T230000Z
DTEND:20260723T000000Z
CLASS:PUBLIC
CREATED:20260423T131440
DESCRIPTION:Wednesday Night Service
LAST-MODIFIED:20260423T131440
LOCATION:YWCOG
SUMMARY:Wednesday Night Service
URL;VALUE=URI:https://www.yorkwoodchurch.org/events/wednesday-night-service
 /2026-07-22
END:VEVENT
END:VCALENDAR
