BEGIN:VCALENDAR
VERSION:2.0
PRODID:icalendar-ruby
CALSCALE:GREGORIAN
METHOD:PUBLISH
BEGIN:VEVENT
DTSTAMP:20260423T145508Z
UID:28-846483@yorkwoodchurch.org
DTSTART:20260708T230000Z
DTEND:20260709T000000Z
CLASS:PUBLIC
CREATED:20260423T102003
DESCRIPTION:Wednesday Night Service
LAST-MODIFIED:20260423T102003
LOCATION:YWCOG
SUMMARY:Wednesday Night Service
URL;VALUE=URI:https://www.yorkwoodchurch.org/events/wednesday-night-service
 /2026-07-08
END:VEVENT
END:VCALENDAR
