BEGIN:VCALENDAR
VERSION:2.0
PRODID:icalendar-ruby
CALSCALE:GREGORIAN
METHOD:PUBLISH
BEGIN:VEVENT
DTSTAMP:20260422T021928Z
UID:11-841068@yorkwoodchurch.org
DTSTART:20261101T150000Z
DTEND:20261101T153000Z
CLASS:PUBLIC
CREATED:20260421T202411
DESCRIPTION:
LAST-MODIFIED:20260421T202411
LOCATION:
SUMMARY:Sunday School
URL;VALUE=URI:https://www.yorkwoodchurch.org/events/sunday-school/2026-11-0
 1
END:VEVENT
END:VCALENDAR
