BEGIN:VCALENDAR
VERSION:2.0
PRODID:icalendar-ruby
CALSCALE:GREGORIAN
METHOD:PUBLISH
BEGIN:VEVENT
DTSTAMP:20260422T003249Z
UID:11-841067@yorkwoodchurch.org
DTSTART:20261025T140000Z
DTEND:20261025T143000Z
CLASS:PUBLIC
CREATED:20260421T202411
DESCRIPTION:
LAST-MODIFIED:20260421T202411
LOCATION:
SUMMARY:Sunday School
URL;VALUE=URI:https://www.yorkwoodchurch.org/events/sunday-school/2026-10-2
 5
END:VEVENT
END:VCALENDAR
