BEGIN:VCALENDAR
VERSION:2.0
PRODID:icalendar-ruby
CALSCALE:GREGORIAN
METHOD:PUBLISH
BEGIN:VEVENT
DTSTAMP:20260421T224838Z
UID:11-840443@yorkwoodchurch.org
DTSTART:20261018T140000Z
DTEND:20261018T143000Z
CLASS:PUBLIC
CREATED:20260421T174526
DESCRIPTION:
LAST-MODIFIED:20260421T174526
LOCATION:
SUMMARY:Sunday School
URL;VALUE=URI:https://www.yorkwoodchurch.org/events/sunday-school/2026-10-1
 8
END:VEVENT
END:VCALENDAR
