BEGIN:VCALENDAR
VERSION:2.0
PRODID:icalendar-ruby
CALSCALE:GREGORIAN
METHOD:PUBLISH
BEGIN:VEVENT
DTSTAMP:20260421T210309Z
UID:11-839819@yorkwoodchurch.org
DTSTART:20261011T140000Z
DTEND:20261011T143000Z
CLASS:PUBLIC
CREATED:20260421T150819
DESCRIPTION:
LAST-MODIFIED:20260421T150819
LOCATION:
SUMMARY:Sunday School
URL;VALUE=URI:https://www.yorkwoodchurch.org/events/sunday-school/2026-10-1
 1
END:VEVENT
END:VCALENDAR
