BEGIN:VCALENDAR
VERSION:2.0
PRODID:icalendar-ruby
CALSCALE:GREGORIAN
METHOD:PUBLISH
BEGIN:VEVENT
DTSTAMP:20260421T171159Z
UID:11-839194@yorkwoodchurch.org
DTSTART:20260927T140000Z
DTEND:20260927T143000Z
CLASS:PUBLIC
CREATED:20260421T123038
DESCRIPTION:
LAST-MODIFIED:20260421T123038
LOCATION:
SUMMARY:Sunday School
URL;VALUE=URI:https://www.yorkwoodchurch.org/events/sunday-school/2026-09-2
 7
END:VEVENT
END:VCALENDAR
