BEGIN:VCALENDAR
VERSION:2.0
PRODID:icalendar-ruby
CALSCALE:GREGORIAN
METHOD:PUBLISH
BEGIN:VEVENT
DTSTAMP:20260421T152138Z
UID:11-838570@yorkwoodchurch.org
DTSTART:20260920T140000Z
DTEND:20260920T143000Z
CLASS:PUBLIC
CREATED:20260421T095231
DESCRIPTION:
LAST-MODIFIED:20260421T095231
LOCATION:
SUMMARY:Sunday School
URL;VALUE=URI:https://www.yorkwoodchurch.org/events/sunday-school/2026-09-2
 0
END:VEVENT
END:VCALENDAR
