BEGIN:VCALENDAR
VERSION:2.0
PRODID:icalendar-ruby
CALSCALE:GREGORIAN
METHOD:PUBLISH
BEGIN:VEVENT
DTSTAMP:20260421T133504Z
UID:11-837946@yorkwoodchurch.org
DTSTART:20260913T140000Z
DTEND:20260913T143000Z
CLASS:PUBLIC
CREATED:20260421T071654
DESCRIPTION:
LAST-MODIFIED:20260421T071654
LOCATION:
SUMMARY:Sunday School
URL;VALUE=URI:https://www.yorkwoodchurch.org/events/sunday-school/2026-09-1
 3
END:VEVENT
END:VCALENDAR
