BEGIN:VCALENDAR
VERSION:2.0
PRODID:icalendar-ruby
CALSCALE:GREGORIAN
METHOD:PUBLISH
BEGIN:VEVENT
DTSTAMP:20260421T114614Z
UID:11-837945@yorkwoodchurch.org
DTSTART:20260906T140000Z
DTEND:20260906T143000Z
CLASS:PUBLIC
CREATED:20260421T071654
DESCRIPTION:
LAST-MODIFIED:20260421T071654
LOCATION:
SUMMARY:Sunday School
URL;VALUE=URI:https://www.yorkwoodchurch.org/events/sunday-school/2026-09-0
 6
END:VEVENT
END:VCALENDAR
