BEGIN:VCALENDAR
VERSION:2.0
PRODID:icalendar-ruby
CALSCALE:GREGORIAN
METHOD:PUBLISH
BEGIN:VEVENT
DTSTAMP:20260421T054104Z
UID:11-837318@yorkwoodchurch.org
DTSTART:20260809T140000Z
DTEND:20260809T143000Z
CLASS:PUBLIC
CREATED:20260420T201032
DESCRIPTION:
LAST-MODIFIED:20260420T201032
LOCATION:
SUMMARY:Sunday School
URL;VALUE=URI:https://www.yorkwoodchurch.org/events/sunday-school/2026-08-0
 9
END:VEVENT
END:VCALENDAR
