BEGIN:VCALENDAR
VERSION:2.0
PRODID:icalendar-ruby
CALSCALE:GREGORIAN
METHOD:PUBLISH
BEGIN:VEVENT
DTSTAMP:20260421T022842Z
UID:14-837493@yorkwoodchurch.org
DTSTART:20260726T144500Z
DTEND:20260726T163000Z
CLASS:PUBLIC
CREATED:20260420T201033
DESCRIPTION:
LAST-MODIFIED:20260420T201033
LOCATION:Yorkwood Church of God
SUMMARY:Sunday Morning Service
URL;VALUE=URI:https://www.yorkwoodchurch.org/events/sunday-morning-service/
 2026-07-26
ATTACH;FILENAME=sanctuary1.jpg;FMTTYPE=image/jpeg:https://dq5pwpg1q8ru0.clo
 udfront.net/2023/06/16/11/00/33/a7e1a7ff-cbc6-473f-8a80-516ae9c5c3f3/sanct
 uary1.jpg
END:VEVENT
END:VCALENDAR
