BEGIN:VCALENDAR
VERSION:2.0
PRODID:icalendar-ruby
CALSCALE:GREGORIAN
METHOD:PUBLISH
BEGIN:VEVENT
DTSTAMP:20260422T032831Z
UID:16-841419@yorkwoodchurch.org
DTSTART:20261101T230000Z
DTEND:20261102T003000Z
CLASS:PUBLIC
CREATED:20260421T202412
DESCRIPTION:
LAST-MODIFIED:20260421T202412
LOCATION:Youth Room
SUMMARY:Revive Student Ministries Youth Service
URL;VALUE=URI:https://www.yorkwoodchurch.org/events/revive-student-ministri
 es-youth-service/2026-11-01
ATTACH;FILENAME=youthservices.jpeg;FMTTYPE=image/jpeg:https://dq5pwpg1q8ru0
 .cloudfront.net/2023/06/16/11/11/47/ef2bed77-9488-4ccb-b18b-8aacad5232f0/y
 outhservices.jpeg
END:VEVENT
END:VCALENDAR
