BEGIN:VCALENDAR
VERSION:2.0
PRODID:icalendar-ruby
CALSCALE:GREGORIAN
METHOD:PUBLISH
BEGIN:VEVENT
DTSTAMP:20260421T233432Z
UID:16-840794@yorkwoodchurch.org
DTSTART:20261018T220000Z
DTEND:20261018T233000Z
CLASS:PUBLIC
CREATED:20260421T174527
DESCRIPTION:
LAST-MODIFIED:20260421T174527
LOCATION:Youth Room
SUMMARY:Revive Student Ministries Youth Service
URL;VALUE=URI:https://www.yorkwoodchurch.org/events/revive-student-ministri
 es-youth-service/2026-10-18
ATTACH;FILENAME=youthservices.jpeg;FMTTYPE=image/jpeg:https://dq5pwpg1q8ru0
 .cloudfront.net/2023/06/16/11/11/47/ef2bed77-9488-4ccb-b18b-8aacad5232f0/y
 outhservices.jpeg
END:VEVENT
END:VCALENDAR
