BEGIN:VCALENDAR
VERSION:2.0
PRODID:icalendar-ruby
CALSCALE:GREGORIAN
METHOD:PUBLISH
BEGIN:VEVENT
DTSTAMP:20260421T040654Z
UID:16-837668@yorkwoodchurch.org
DTSTART:20260802T220000Z
DTEND:20260802T233000Z
CLASS:PUBLIC
CREATED:20260420T201033
DESCRIPTION:
LAST-MODIFIED:20260420T201033
LOCATION:Youth Room
SUMMARY:Revive Student Ministries Youth Service
URL;VALUE=URI:https://www.yorkwoodchurch.org/events/revive-student-ministri
 es-youth-service/2026-08-02
ATTACH;FILENAME=youthservices.jpeg;FMTTYPE=image/jpeg:https://dq5pwpg1q8ru0
 .cloudfront.net/2023/06/16/11/11/47/ef2bed77-9488-4ccb-b18b-8aacad5232f0/y
 outhservices.jpeg
END:VEVENT
END:VCALENDAR
